Package: dir.expiry Version: 1.15.0 Command: E:\biocbuild\bbs-3.21-bioc\R\bin\R.exe CMD INSTALL dir.expiry StartedAt: 2025-02-04 15:17:02 -0500 (Tue, 04 Feb 2025) EndedAt: 2025-02-04 15:17:15 -0500 (Tue, 04 Feb 2025) EllapsedTime: 13.4 seconds RetCode: 0 Status: OK