##############################################################################
##############################################################################
###
### Running command:
###
###   chmod a+r dir.expiry -R && E:\biocbuild\bbs-3.21-bioc\R\bin\R.exe CMD build --keep-empty-dirs --no-resave-data dir.expiry
###
##############################################################################
##############################################################################


* checking for file 'dir.expiry/DESCRIPTION' ... OK
* preparing 'dir.expiry':
* checking DESCRIPTION meta-information ... OK
* installing the package to build vignettes
* creating vignettes ... OK
* checking for LF line-endings in source and make files and shell scripts
* checking for empty or unneeded directories
* building 'dir.expiry_1.15.0.tar.gz'