Package: dir.expiry Version: 1.15.0 Command: rm -rf dir.expiry.buildbin-libdir && mkdir dir.expiry.buildbin-libdir && E:\biocbuild\bbs-3.21-bioc\R\bin\R.exe CMD INSTALL --build --library=dir.expiry.buildbin-libdir dir.expiry_1.15.0.tar.gz StartedAt: 2025-02-05 07:50:01 -0500 (Wed, 05 Feb 2025) EndedAt: 2025-02-05 07:50:11 -0500 (Wed, 05 Feb 2025) EllapsedTime: 9.4 seconds RetCode: 0 Status: OK PackageFile: dir.expiry_1.15.0.zip PackageFileSize: 320.2 KiB