Package: dir.expiry Version: 1.15.0 Command: /Library/Frameworks/R.framework/Resources/bin/R CMD check --install=check:dir.expiry.install-out.txt --library=/Library/Frameworks/R.framework/Resources/library --no-vignettes --timings dir.expiry_1.15.0.tar.gz StartedAt: 2025-02-04 20:09:21 -0500 (Tue, 04 Feb 2025) EndedAt: 2025-02-04 20:09:46 -0500 (Tue, 04 Feb 2025) EllapsedTime: 25.4 seconds RetCode: 0 Status: OK CheckDir: dir.expiry.Rcheck Warnings: 0