Package: dir.expiry
Version: 1.15.0
Command: /home/biocbuild/R/R/bin/R CMD INSTALL dir.expiry
StartedAt: 2025-01-29 19:29:30 -0000 (Wed, 29 Jan 2025)
EndedAt: 2025-01-29 19:29:44 -0000 (Wed, 29 Jan 2025)
EllapsedTime: 14.8 seconds
RetCode: 0
Status: OK