Package: dir.expiry
Version: 1.15.0
Command: /home/biocbuild/R/R/bin/R CMD check --install=check:dir.expiry.install-out.txt --library=/home/biocbuild/R/R/site-library --no-vignettes --timings dir.expiry_1.15.0.tar.gz
StartedAt: 2025-01-28 10:00:51 -0000 (Tue, 28 Jan 2025)
EndedAt: 2025-01-28 10:01:07 -0000 (Tue, 28 Jan 2025)
EllapsedTime: 16.0 seconds
RetCode: 0
Status: OK
CheckDir: dir.expiry.Rcheck
Warnings: 0