Package: diffUTR Version: 1.15.0 Command: chmod a+r diffUTR -R && E:\biocbuild\bbs-3.21-bioc\R\bin\R.exe CMD build --keep-empty-dirs --no-resave-data diffUTR StartedAt: 2025-02-04 18:22:46 -0500 (Tue, 04 Feb 2025) EndedAt: 2025-02-04 18:24:40 -0500 (Tue, 04 Feb 2025) EllapsedTime: 114.5 seconds RetCode: 0 Status: OK PackageFile: diffUTR_1.15.0.tar.gz PackageFileSize: 1.102 MiB