Package: diffUTR Version: 1.15.0 Command: /home/biocbuild/bbs-3.21-bioc/R/bin/R CMD INSTALL diffUTR StartedAt: 2025-02-19 15:40:31 -0500 (Wed, 19 Feb 2025) EndedAt: 2025-02-19 15:41:14 -0500 (Wed, 19 Feb 2025) EllapsedTime: 43.6 seconds RetCode: 0 Status: OK