Package: diffUTR
Version: 1.15.0
Command: /home/biocbuild/bbs-3.21-bioc/R/bin/R CMD check --install=check:diffUTR.install-out.txt --library=/home/biocbuild/bbs-3.21-bioc/R/site-library --timings diffUTR_1.15.0.tar.gz
StartedAt: 2025-02-19 21:42:23 -0500 (Wed, 19 Feb 2025)
EndedAt: 2025-02-19 21:48:00 -0500 (Wed, 19 Feb 2025)
EllapsedTime: 337.4 seconds
RetCode: 0
Status: OK
CheckDir: diffUTR.Rcheck
Warnings: 0