Package: diffUTR Version: 1.15.0 Command: /home/biocbuild/bbs-3.21-bioc/R/bin/R CMD build --keep-empty-dirs --no-resave-data diffUTR StartedAt: 2025-02-19 17:01:11 -0500 (Wed, 19 Feb 2025) EndedAt: 2025-02-19 17:02:24 -0500 (Wed, 19 Feb 2025) EllapsedTime: 73.1 seconds RetCode: 0 Status: OK PackageFile: diffUTR_1.15.0.tar.gz PackageFileSize: 1.366 <A href="http://en.wikipedia.org/wiki/MiB" target="_blank">MiB</A>