Package: diffUTR
Version: 1.15.0
Command: /home/biocbuild/R/R/bin/R CMD INSTALL diffUTR
StartedAt: 2025-01-29 20:24:24 -0000 (Wed, 29 Jan 2025)
EndedAt: 2025-01-29 20:25:26 -0000 (Wed, 29 Jan 2025)
EllapsedTime: 62.3 seconds
RetCode: 0
Status: OK