Package: diffUTR
Version: 1.15.0
Command: /home/biocbuild/R/R/bin/R CMD check --install=check:diffUTR.install-out.txt --library=/home/biocbuild/R/R/site-library --no-vignettes --timings diffUTR_1.15.0.tar.gz
StartedAt: 2025-01-28 09:59:39 -0000 (Tue, 28 Jan 2025)
EndedAt: 2025-01-28 10:06:18 -0000 (Tue, 28 Jan 2025)
EllapsedTime: 398.4 seconds
RetCode: 0
Status: WARNINGS
CheckDir: diffUTR.Rcheck
Warnings: 5