Package: diffUTR
Version: 1.15.0
Command: /home/biocbuild/R/R/bin/R CMD build --keep-empty-dirs --no-resave-data diffUTR
StartedAt: 2025-01-28 22:29:08 -0000 (Tue, 28 Jan 2025)
EndedAt: 2025-01-28 22:30:55 -0000 (Tue, 28 Jan 2025)
EllapsedTime: 107.0 seconds
RetCode: 0
Status: OK
PackageFile: diffUTR_1.15.0.tar.gz
PackageFileSize: 1.145 <A href="http://en.wikipedia.org/wiki/MiB" target="_blank">MiB</A>