Package: derfinderHelper
Version: 1.41.0
Command: E:\biocbuild\bbs-3.21-bioc\R\bin\R.exe CMD check --no-multiarch --install=check:derfinderHelper.install-out.txt --library=E:\biocbuild\bbs-3.21-bioc\R\library --no-vignettes --timings derfinderHelper_1.41.0.tar.gz
StartedAt: 2025-02-20 00:26:50 -0500 (Thu, 20 Feb 2025)
EndedAt: 2025-02-20 00:28:25 -0500 (Thu, 20 Feb 2025)
EllapsedTime: 95.2 seconds
RetCode: 0
Status: OK
CheckDir: derfinderHelper.Rcheck
Warnings: 0