Package: derfinderHelper
Version: 1.41.0
Command: chmod a+r derfinderHelper -R && E:\biocbuild\bbs-3.21-bioc\R\bin\R.exe CMD build --keep-empty-dirs --no-resave-data derfinderHelper
StartedAt: 2025-02-19 18:21:21 -0500 (Wed, 19 Feb 2025)
EndedAt: 2025-02-19 18:21:50 -0500 (Wed, 19 Feb 2025)
EllapsedTime: 28.8 seconds
RetCode: 0
Status: OK
PackageFile: derfinderHelper_1.41.0.tar.gz
PackageFileSize: 310.2 <A href="http://en.wikipedia.org/wiki/KiB" target="_blank">KiB</A>