Package: derfinderHelper
Version: 1.41.0
Command: rm -rf derfinderHelper.buildbin-libdir && mkdir derfinderHelper.buildbin-libdir && E:\biocbuild\bbs-3.21-bioc\R\bin\R.exe CMD INSTALL --build --library=derfinderHelper.buildbin-libdir derfinderHelper_1.41.0.tar.gz
StartedAt: 2025-02-20 07:39:25 -0500 (Thu, 20 Feb 2025)
EndedAt: 2025-02-20 07:39:42 -0500 (Thu, 20 Feb 2025)
EllapsedTime: 17.1 seconds
RetCode: 0
Status: OK
PackageFile: derfinderHelper_1.41.0.zip
PackageFileSize: 328.6 <A href="http://en.wikipedia.org/wiki/KiB" target="_blank">KiB</A>