Package: derfinderHelper
Version: 1.41.0
Command: /home/biocbuild/bbs-3.21-bioc/R/bin/R CMD INSTALL derfinderHelper
StartedAt: 2025-02-19 15:14:14 -0500 (Wed, 19 Feb 2025)
EndedAt: 2025-02-19 15:14:24 -0500 (Wed, 19 Feb 2025)
EllapsedTime: 10.2 seconds
RetCode: 0
Status: OK