Package: derfinderHelper Version: 1.41.0 Command: /home/biocbuild/bbs-3.21-bioc/R/bin/R CMD build --keep-empty-dirs --no-resave-data derfinderHelper StartedAt: 2025-02-19 16:59:06 -0500 (Wed, 19 Feb 2025) EndedAt: 2025-02-19 16:59:22 -0500 (Wed, 19 Feb 2025) EllapsedTime: 16.0 seconds RetCode: 0 Status: OK PackageFile: derfinderHelper_1.41.0.tar.gz PackageFileSize: 309.8 <A href="http://en.wikipedia.org/wiki/KiB" target="_blank">KiB</A>