Package: derfinderHelper
Version: 1.41.0
Command: /home/biocbuild/R/R/bin/R CMD check --install=check:derfinderHelper.install-out.txt --library=/home/biocbuild/R/R/site-library --no-vignettes --timings derfinderHelper_1.41.0.tar.gz
StartedAt: 2025-01-28 09:54:52 -0000 (Tue, 28 Jan 2025)
EndedAt: 2025-01-28 09:56:24 -0000 (Tue, 28 Jan 2025)
EllapsedTime: 92.2 seconds
RetCode: 0
Status: OK
CheckDir: derfinderHelper.Rcheck
Warnings: 0