Package: derfinderHelper Version: 1.41.0 Command: /Library/Frameworks/R.framework/Resources/bin/R CMD INSTALL derfinderHelper StartedAt: 2025-02-19 15:02:50 -0500 (Wed, 19 Feb 2025) EndedAt: 2025-02-19 15:02:55 -0500 (Wed, 19 Feb 2025) EllapsedTime: 4.2 seconds RetCode: 0 Status: OK