Package: densvis
Version: 1.17.0
Command: E:\biocbuild\bbs-3.21-bioc\R\bin\R.exe CMD INSTALL densvis
StartedAt: 2025-02-19 15:29:51 -0500 (Wed, 19 Feb 2025)
EndedAt: 2025-02-19 15:30:21 -0500 (Wed, 19 Feb 2025)
EllapsedTime: 30.6 seconds
RetCode: 0
Status: OK