Package: densvis
Version: 1.17.0
Command: E:\biocbuild\bbs-3.21-bioc\R\bin\R.exe CMD check --no-multiarch --install=check:densvis.install-out.txt --library=E:\biocbuild\bbs-3.21-bioc\R\library --no-vignettes --timings densvis_1.17.0.tar.gz
StartedAt: 2025-02-20 00:25:07 -0500 (Thu, 20 Feb 2025)
EndedAt: 2025-02-20 00:29:08 -0500 (Thu, 20 Feb 2025)
EllapsedTime: 241.8 seconds
RetCode: 0
Status: OK
CheckDir: densvis.Rcheck
Warnings: 0