Package: densvis Version: 1.17.0 Command: chmod a+r densvis -R && E:\biocbuild\bbs-3.21-bioc\R\bin\R.exe --arch x64 CMD build --keep-empty-dirs --no-resave-data densvis StartedAt: 2025-02-19 18:19:37 -0500 (Wed, 19 Feb 2025) EndedAt: 2025-02-19 18:24:56 -0500 (Wed, 19 Feb 2025) EllapsedTime: 318.6 seconds RetCode: 0 Status: OK PackageFile: densvis_1.17.0.tar.gz PackageFileSize: 565.2 <A href="http://en.wikipedia.org/wiki/KiB" target="_blank">KiB</A>