##############################################################################
##############################################################################
###
### Running command:
###
###   chmod a+r densvis -R && E:\biocbuild\bbs-3.21-bioc\R\bin\R.exe --arch x64 CMD build --keep-empty-dirs --no-resave-data densvis
###
##############################################################################
##############################################################################


* checking for file 'densvis/DESCRIPTION' ... OK
* preparing 'densvis':
* checking DESCRIPTION meta-information ... OK
* cleaning src
* installing the package to build vignettes
* creating vignettes ... OK
* cleaning src
* checking for LF line-endings in source and make files and shell scripts
* checking for empty or unneeded directories
Omitted 'LazyData' from DESCRIPTION
* building 'densvis_1.17.0.tar.gz'
Warning: file 'densvis/configure' did not have execute permissions: corrected