Package: densvis
Version: 1.17.0
Command: /home/biocbuild/bbs-3.21-bioc/R/bin/R CMD INSTALL densvis
StartedAt: 2025-02-19 15:11:34 -0500 (Wed, 19 Feb 2025)
EndedAt: 2025-02-19 15:11:50 -0500 (Wed, 19 Feb 2025)
EllapsedTime: 16.9 seconds
RetCode: 0
Status: OK