Package: densvis
Version: 1.17.0
Command: /home/biocbuild/bbs-3.21-bioc/R/bin/R CMD check --install=check:densvis.install-out.txt --library=/home/biocbuild/bbs-3.21-bioc/R/site-library --timings densvis_1.17.0.tar.gz
StartedAt: 2025-02-19 21:35:42 -0500 (Wed, 19 Feb 2025)
EndedAt: 2025-02-19 21:38:26 -0500 (Wed, 19 Feb 2025)
EllapsedTime: 164.2 seconds
RetCode: 0
Status: OK
CheckDir: densvis.Rcheck
Warnings: 0