Package: densvis Version: 1.17.0 Command: /home/biocbuild/bbs-3.21-bioc/R/bin/R CMD build --keep-empty-dirs --no-resave-data densvis StartedAt: 2025-02-19 16:57:42 -0500 (Wed, 19 Feb 2025) EndedAt: 2025-02-19 16:59:05 -0500 (Wed, 19 Feb 2025) EllapsedTime: 83.0 seconds RetCode: 0 Status: OK PackageFile: densvis_1.17.0.tar.gz PackageFileSize: 1.672 <A href="http://en.wikipedia.org/wiki/MiB" target="_blank">MiB</A>