Package: densvis Version: 1.17.0 Command: rm -rf densvis.buildbin-libdir && mkdir densvis.buildbin-libdir && /Users/biocbuild/BBS/utils/build-universal.sh densvis_1.17.0.tar.gz /Library/Frameworks/R.framework/Resources/bin/R densvis.buildbin-libdir StartedAt: 2025-02-05 00:36:38 -0500 (Wed, 05 Feb 2025) EndedAt: 2025-02-05 00:37:07 -0500 (Wed, 05 Feb 2025) EllapsedTime: 28.7 seconds RetCode: 0 Status: OK PackageFile: densvis_1.17.0.tgz PackageFileSize: 1.848 MiB