Package: densvis Version: 1.17.0 Command: /Library/Frameworks/R.framework/Resources/bin/R CMD build --keep-empty-dirs --no-resave-data densvis StartedAt: 2025-02-04 16:07:40 -0500 (Tue, 04 Feb 2025) EndedAt: 2025-02-04 16:08:17 -0500 (Tue, 04 Feb 2025) EllapsedTime: 36.4 seconds RetCode: 0 Status: OK PackageFile: densvis_1.17.0.tar.gz PackageFileSize: 1.779 MiB