Package: deltaCaptureC
Version: 1.21.0
Maintainer: Michael Shapiro
MaintainerEmail: michael.shapiro at crick.ac.uk
git_url: https://git.bioconductor.org/packages/deltaCaptureC
git_branch: devel
git_last_commit: 10a66b3
git_last_commit_date: 2024-10-29 10:39:48 -0500 (Tue, 29 Oct 2024)