Package: dcanr
Version: 1.23.0
Command: E:\biocbuild\bbs-3.21-bioc\R\bin\R.exe CMD INSTALL dcanr
StartedAt: 2025-02-19 15:55:45 -0500 (Wed, 19 Feb 2025)
EndedAt: 2025-02-19 15:56:03 -0500 (Wed, 19 Feb 2025)
EllapsedTime: 17.8 seconds
RetCode: 0
Status: OK