Package: dcanr Version: 1.23.0 Command: E:\biocbuild\bbs-3.21-bioc\R\bin\R.exe CMD check --no-multiarch --install=check:dcanr.install-out.txt --library=E:\biocbuild\bbs-3.21-bioc\R\library --no-vignettes --timings dcanr_1.23.0.tar.gz StartedAt: 2025-02-20 00:13:02 -0500 (Thu, 20 Feb 2025) EndedAt: 2025-02-20 00:14:22 -0500 (Thu, 20 Feb 2025) EllapsedTime: 79.8 seconds RetCode: 0 Status: OK CheckDir: dcanr.Rcheck Warnings: 0