Package: dcanr Version: 1.23.0 Command: rm -rf dcanr.buildbin-libdir && mkdir dcanr.buildbin-libdir && E:\biocbuild\bbs-3.21-bioc\R\bin\R.exe CMD INSTALL --build --library=dcanr.buildbin-libdir dcanr_1.23.0.tar.gz StartedAt: 2025-02-20 07:36:32 -0500 (Thu, 20 Feb 2025) EndedAt: 2025-02-20 07:36:57 -0500 (Thu, 20 Feb 2025) EllapsedTime: 24.6 seconds RetCode: 0 Status: OK PackageFile: dcanr_1.23.0.zip PackageFileSize: 1.365 <A href="http://en.wikipedia.org/wiki/MiB" target="_blank">MiB</A>