##############################################################################
##############################################################################
###
### Running command:
###
###   rm -rf dcanr.buildbin-libdir && mkdir dcanr.buildbin-libdir && E:\biocbuild\bbs-3.21-bioc\R\bin\R.exe CMD INSTALL --build --library=dcanr.buildbin-libdir dcanr_1.23.0.tar.gz
###
##############################################################################
##############################################################################


* installing *source* package 'dcanr' ...
** this is package 'dcanr' version '1.23.0'
** using staged installation
Warning in person1(given = given[[i]], family = family[[i]], middle = middle[[i]],  :
  It is recommended to use 'given' instead of 'middle'.
** R
** data
** inst
** byte-compile and prepare package for lazy loading
in method for 'dcScore' with signature '"Matrix","ANY","ANY"': no definition for class "Matrix"
in method for 'dcScore' with signature '"ExpressionSet","ANY","ANY"': no definition for class "ExpressionSet"
in method for 'dcScore' with signature '"SummarizedExperiment","ANY","ANY"': no definition for class "SummarizedExperiment"
in method for 'dcScore' with signature '"DGEList","ANY","ANY"': no definition for class "DGEList"
** help
*** installing help indices
** building package indices
** installing vignettes
** testing if installed package can be loaded from temporary location
** testing if installed package can be loaded from final location
** testing if installed package keeps a record of temporary installation path
* MD5 sums
packaged installation of 'dcanr' as dcanr_1.23.0.zip
* DONE (dcanr)