Package: dcanr Version: 1.23.0 Command: /home/biocbuild/bbs-3.21-bioc/R/bin/R CMD INSTALL dcanr StartedAt: 2025-02-19 15:07:11 -0500 (Wed, 19 Feb 2025) EndedAt: 2025-02-19 15:07:42 -0500 (Wed, 19 Feb 2025) EllapsedTime: 30.3 seconds RetCode: 0 Status: OK