Package: dcanr
Version: 1.23.0
Command: /home/biocbuild/R/R/bin/R CMD check --install=check:dcanr.install-out.txt --library=/home/biocbuild/R/R/site-library --no-vignettes --timings dcanr_1.23.0.tar.gz
StartedAt: 2025-01-28 09:45:23 -0000 (Tue, 28 Jan 2025)
EndedAt: 2025-01-28 09:46:35 -0000 (Tue, 28 Jan 2025)
EllapsedTime: 72.1 seconds
RetCode: 0
Status: OK
CheckDir: dcanr.Rcheck
Warnings: 0