Package: dcGSA Version: 1.35.0 Command: /Library/Frameworks/R.framework/Resources/bin/R CMD INSTALL dcGSA StartedAt: 2025-02-19 15:13:26 -0500 (Wed, 19 Feb 2025) EndedAt: 2025-02-19 15:13:34 -0500 (Wed, 19 Feb 2025) EllapsedTime: 7.9 seconds RetCode: 0 Status: OK