Package: dcGSA
Version: 1.35.0
Command: /Library/Frameworks/R.framework/Resources/bin/R CMD check --install=check:dcGSA.install-out.txt --library=/Library/Frameworks/R.framework/Resources/library --no-vignettes --timings dcGSA_1.35.0.tar.gz
StartedAt: 2025-02-19 19:53:01 -0500 (Wed, 19 Feb 2025)
EndedAt: 2025-02-19 19:53:50 -0500 (Wed, 19 Feb 2025)
EllapsedTime: 48.1 seconds
RetCode: 0
Status: WARNINGS
CheckDir: dcGSA.Rcheck
Warnings: 1