Package: dcGSA Version: 1.35.0 Command: rm -rf dcGSA.buildbin-libdir && mkdir dcGSA.buildbin-libdir && /Users/biocbuild/BBS/utils/build-universal.sh dcGSA_1.35.0.tar.gz /Library/Frameworks/R.framework/Resources/bin/R dcGSA.buildbin-libdir StartedAt: 2025-02-20 00:28:18 -0500 (Thu, 20 Feb 2025) EndedAt: 2025-02-20 00:28:27 -0500 (Thu, 20 Feb 2025) EllapsedTime: 9.3 seconds RetCode: 0 Status: OK PackageFile: dcGSA_1.35.0.tgz PackageFileSize: 51.44 <A href="http://en.wikipedia.org/wiki/KiB" target="_blank">KiB</A>