Package: dagLogo
Version: 1.45.1
Command: E:\biocbuild\bbs-3.21-bioc\R\bin\R.exe CMD INSTALL dagLogo
StartedAt: 2025-02-19 16:13:33 -0500 (Wed, 19 Feb 2025)
EndedAt: 2025-02-19 16:14:48 -0500 (Wed, 19 Feb 2025)
EllapsedTime: 75.5 seconds
RetCode: 0
Status: OK