Package: dagLogo
Version: 1.45.1
Command: E:\biocbuild\bbs-3.21-bioc\R\bin\R.exe CMD check --no-multiarch --install=check:dagLogo.install-out.txt --library=E:\biocbuild\bbs-3.21-bioc\R\library --no-vignettes --timings dagLogo_1.45.1.tar.gz
StartedAt: 2025-02-20 00:11:04 -0500 (Thu, 20 Feb 2025)
EndedAt: 2025-02-20 00:18:11 -0500 (Thu, 20 Feb 2025)
EllapsedTime: 426.7 seconds
RetCode: 0
Status: OK
CheckDir: dagLogo.Rcheck
Warnings: 0