Package: dagLogo Version: 1.45.1 Command: chmod a+r dagLogo -R && E:\biocbuild\bbs-3.21-bioc\R\bin\R.exe CMD build --keep-empty-dirs --no-resave-data dagLogo StartedAt: 2025-02-19 18:11:57 -0500 (Wed, 19 Feb 2025) EndedAt: 2025-02-19 18:14:16 -0500 (Wed, 19 Feb 2025) EllapsedTime: 138.5 seconds RetCode: 0 Status: OK PackageFile: dagLogo_1.45.1.tar.gz PackageFileSize: 2.487 <A href="http://en.wikipedia.org/wiki/MiB" target="_blank">MiB</A>