Package: dagLogo
Version: 1.45.1
Command: rm -rf dagLogo.buildbin-libdir && mkdir dagLogo.buildbin-libdir && E:\biocbuild\bbs-3.21-bioc\R\bin\R.exe CMD INSTALL --build --library=dagLogo.buildbin-libdir dagLogo_1.45.1.tar.gz
StartedAt: 2025-02-20 07:36:09 -0500 (Thu, 20 Feb 2025)
EndedAt: 2025-02-20 07:37:19 -0500 (Thu, 20 Feb 2025)
EllapsedTime: 69.8 seconds
RetCode: 0
Status: OK
PackageFile: dagLogo_1.45.1.zip
PackageFileSize: 2.876 <A href="http://en.wikipedia.org/wiki/MiB" target="_blank">MiB</A>