Package: dagLogo
Version: 1.45.1
Command: /home/biocbuild/bbs-3.21-bioc/R/bin/R CMD INSTALL dagLogo
StartedAt: 2025-02-19 15:52:42 -0500 (Wed, 19 Feb 2025)
EndedAt: 2025-02-19 15:53:28 -0500 (Wed, 19 Feb 2025)
EllapsedTime: 46.3 seconds
RetCode: 0
Status: OK