Package: dagLogo
Version: 1.45.1
Command: /home/biocbuild/bbs-3.21-bioc/R/bin/R CMD check --install=check:dagLogo.install-out.txt --library=/home/biocbuild/bbs-3.21-bioc/R/site-library --timings dagLogo_1.45.1.tar.gz
StartedAt: 2025-02-19 21:22:22 -0500 (Wed, 19 Feb 2025)
EndedAt: 2025-02-19 21:29:24 -0500 (Wed, 19 Feb 2025)
EllapsedTime: 421.5 seconds
RetCode: 0
Status: OK
CheckDir: dagLogo.Rcheck
Warnings: 0