##############################################################################
##############################################################################
###
### Running command:
###
###   /home/biocbuild/bbs-3.21-bioc/R/bin/R CMD build --keep-empty-dirs --no-resave-data dagLogo
###
##############################################################################
##############################################################################


* checking for file ‘dagLogo/DESCRIPTION’ ... OK
* preparing ‘dagLogo’:
* checking DESCRIPTION meta-information ... OK
* installing the package to build vignettes
* creating vignettes ... OK
* checking for LF line-endings in source and make files and shell scripts
* checking for empty or unneeded directories
* building ‘dagLogo_1.45.1.tar.gz’