Package: dagLogo
Version: 1.45.1
Command: /home/biocbuild/R/R/bin/R CMD INSTALL dagLogo
StartedAt: 2025-01-29 20:06:00 -0000 (Wed, 29 Jan 2025)
EndedAt: 2025-01-29 20:07:03 -0000 (Wed, 29 Jan 2025)
EllapsedTime: 63.7 seconds
RetCode: 0
Status: OK