Package: dagLogo
Version: 1.45.1
Command: /home/biocbuild/R/R/bin/R CMD build --keep-empty-dirs --no-resave-data dagLogo
StartedAt: 2025-01-28 22:15:43 -0000 (Tue, 28 Jan 2025)
EndedAt: 2025-01-28 22:18:06 -0000 (Tue, 28 Jan 2025)
EllapsedTime: 143.1 seconds
RetCode: 0
Status: OK
PackageFile: dagLogo_1.45.1.tar.gz
PackageFileSize: 2.496 <A href="http://en.wikipedia.org/wiki/MiB" target="_blank">MiB</A>