Package: cytoMEM
Version: 1.11.0
Maintainer: Jonathan Irish
MaintainerEmail: jonathan.irish at vanderbilt.edu
git_url: https://git.bioconductor.org/packages/cytoMEM
git_branch: devel
git_last_commit: d2f1603
git_last_commit_date: 2024-10-29 11:10:17 -0500 (Tue, 29 Oct 2024)