Package: ctsGE
Version: 1.33.0
Command: /home/biocbuild/bbs-3.21-bioc/R/bin/R CMD INSTALL ctsGE
StartedAt: 2025-02-19 15:08:55 -0500 (Wed, 19 Feb 2025)
EndedAt: 2025-02-19 15:09:05 -0500 (Wed, 19 Feb 2025)
EllapsedTime: 10.8 seconds
RetCode: 0
Status: OK